Package: MMDiffBamSubset Version: 1.43.0 Command: /home/biocbuild/bbs-3.21-bioc/R/bin/R CMD INSTALL MMDiffBamSubset StartedAt: 2025-02-04 10:55:17 -0500 (Tue, 04 Feb 2025) EndedAt: 2025-02-04 10:55:22 -0500 (Tue, 04 Feb 2025) EllapsedTime: 4.8 seconds RetCode: 0 Status: OK