Package: MSMB Version: 1.25.0 Command: /home/biocbuild/bbs-3.21-bioc/R/bin/R CMD check --install=check:MSMB.install-out.txt --library=/home/biocbuild/bbs-3.21-bioc/R/site-library --timings MSMB_1.25.0.tar.gz StartedAt: 2025-02-06 12:26:37 -0500 (Thu, 06 Feb 2025) EndedAt: 2025-02-06 12:26:54 -0500 (Thu, 06 Feb 2025) EllapsedTime: 17.3 seconds RetCode: 0 Status: OK CheckDir: MSMB.Rcheck Warnings: 0