Package: MetaGxOvarian Version: 1.27.0 Maintainer: Benjamin Haibe-Kains MaintainerEmail: benjamin.haibe.kains at utoronto.ca git_url: https://git.bioconductor.org/packages/MetaGxOvarian git_branch: devel git_last_commit: 7e4535f git_last_commit_date: 2024-10-29 09:48:00 -0500 (Tue, 29 Oct 2024)