Package: MetaScope Version: 1.7.2 Command: /home/biocbuild/bbs-3.21-bioc/R/bin/R CMD build --keep-empty-dirs --no-resave-data MetaScope StartedAt: 2025-02-06 11:28:45 -0500 (Thu, 06 Feb 2025) EndedAt: 2025-02-06 11:37:16 -0500 (Thu, 06 Feb 2025) EllapsedTime: 511.0 seconds RetCode: 0 Status: OK PackageFile: MetaScope_1.7.2.tar.gz PackageFileSize: 3.686 MiB