Package: MetaScope Version: 1.7.2 Command: /home/biocbuild/bbs-3.21-bioc/R/bin/R CMD check --install=check:MetaScope.install-out.txt --library=/home/biocbuild/bbs-3.21-bioc/R/site-library --timings MetaScope_1.7.2.tar.gz StartedAt: 2025-02-06 12:21:14 -0500 (Thu, 06 Feb 2025) EndedAt: 2025-02-06 12:30:56 -0500 (Thu, 06 Feb 2025) EllapsedTime: 582.2 seconds RetCode: 0 Status: OK CheckDir: MetaScope.Rcheck Warnings: 0