Package: MetaScope Version: 1.7.2 Command: /home/biocbuild/bbs-3.21-bioc/R/bin/R CMD INSTALL MetaScope StartedAt: 2025-02-06 11:00:54 -0500 (Thu, 06 Feb 2025) EndedAt: 2025-02-06 11:01:03 -0500 (Thu, 06 Feb 2025) EllapsedTime: 9.5 seconds RetCode: 0 Status: OK