Package: MicrobiomeBenchmarkData Version: 1.9.0 Command: /home/biocbuild/bbs-3.21-bioc/R/bin/R CMD check --install=check:MicrobiomeBenchmarkData.install-out.txt --library=/home/biocbuild/bbs-3.21-bioc/R/site-library --timings MicrobiomeBenchmarkData_1.9.0.tar.gz StartedAt: 2025-02-04 12:21:54 -0500 (Tue, 04 Feb 2025) EndedAt: 2025-02-04 12:26:50 -0500 (Tue, 04 Feb 2025) EllapsedTime: 296.0 seconds RetCode: 0 Status: OK CheckDir: MicrobiomeBenchmarkData.Rcheck Warnings: 0