Package: MicrobiomeBenchmarkData Version: 1.9.0 Command: /home/biocbuild/bbs-3.21-bioc/R/bin/R CMD INSTALL MicrobiomeBenchmarkData StartedAt: 2025-02-04 10:58:57 -0500 (Tue, 04 Feb 2025) EndedAt: 2025-02-04 10:59:26 -0500 (Tue, 04 Feb 2025) EllapsedTime: 28.8 seconds RetCode: 0 Status: OK