Package: MouseThymusAgeing Version: 1.15.0 Command: /home/biocbuild/bbs-3.21-bioc/R/bin/R CMD check --install=check:MouseThymusAgeing.install-out.txt --library=/home/biocbuild/bbs-3.21-bioc/R/site-library --timings MouseThymusAgeing_1.15.0.tar.gz StartedAt: 2025-02-06 12:25:42 -0500 (Thu, 06 Feb 2025) EndedAt: 2025-02-06 12:29:23 -0500 (Thu, 06 Feb 2025) EllapsedTime: 221.0 seconds RetCode: 0 Status: OK CheckDir: MouseThymusAgeing.Rcheck Warnings: 0