Package: NGScopyData Version: 1.27.0 Maintainer: Xiaobei Zhao MaintainerEmail: xiaobei at binf.ku.dk git_url: https://git.bioconductor.org/packages/NGScopyData git_branch: devel git_last_commit: b5322b1 git_last_commit_date: 2024-10-29 09:40:04 -0500 (Tue, 29 Oct 2024)