Package: NGScopyData Version: 1.27.0 Command: /home/biocbuild/bbs-3.21-bioc/R/bin/R CMD build --keep-empty-dirs --no-resave-data NGScopyData StartedAt: 2025-02-13 11:32:06 -0500 (Thu, 13 Feb 2025) EndedAt: 2025-02-13 11:32:09 -0500 (Thu, 13 Feb 2025) EllapsedTime: 3.5 seconds RetCode: 0 Status: OK PackageFile: NGScopyData_1.27.0.tar.gz PackageFileSize: 37 MiB