Package: NetActivityData Version: 1.9.0 Command: /home/biocbuild/bbs-3.21-bioc/R/bin/R CMD build --keep-empty-dirs --no-resave-data NetActivityData StartedAt: 2025-02-04 11:31:54 -0500 (Tue, 04 Feb 2025) EndedAt: 2025-02-04 11:32:09 -0500 (Tue, 04 Feb 2025) EllapsedTime: 14.9 seconds RetCode: 0 Status: OK PackageFile: NetActivityData_1.9.0.tar.gz PackageFileSize: 5.269 MiB