Package: Neve2006 Version: 0.45.0 Command: /home/biocbuild/bbs-3.21-bioc/R/bin/R CMD build --keep-empty-dirs --no-resave-data Neve2006 StartedAt: 2025-02-04 11:32:05 -0500 (Tue, 04 Feb 2025) EndedAt: 2025-02-04 11:32:35 -0500 (Tue, 04 Feb 2025) EllapsedTime: 30.7 seconds RetCode: 0 Status: OK PackageFile: Neve2006_0.45.0.tar.gz PackageFileSize: 67.92 MiB