Package: Neve2006 Version: 0.45.0 Command: /home/biocbuild/bbs-3.21-bioc/R/bin/R CMD check --install=check:Neve2006.install-out.txt --library=/home/biocbuild/bbs-3.21-bioc/R/site-library --timings Neve2006_0.45.0.tar.gz StartedAt: 2025-02-06 12:28:21 -0500 (Thu, 06 Feb 2025) EndedAt: 2025-02-06 12:30:12 -0500 (Thu, 06 Feb 2025) EllapsedTime: 110.8 seconds RetCode: 0 Status: OK CheckDir: Neve2006.Rcheck Warnings: 0