Package: Neve2006 Version: 0.45.0 Command: /home/biocbuild/bbs-3.21-bioc/R/bin/R CMD INSTALL Neve2006 StartedAt: 2025-02-06 10:57:30 -0500 (Thu, 06 Feb 2025) EndedAt: 2025-02-06 10:57:46 -0500 (Thu, 06 Feb 2025) EllapsedTime: 16.4 seconds RetCode: 0 Status: OK