Package: OnassisJavaLibs Version: 1.29.0 Command: /home/biocbuild/bbs-3.21-bioc/R/bin/R CMD build --keep-empty-dirs --no-resave-data OnassisJavaLibs StartedAt: 2025-02-06 11:32:55 -0500 (Thu, 06 Feb 2025) EndedAt: 2025-02-06 11:33:07 -0500 (Thu, 06 Feb 2025) EllapsedTime: 11.6 seconds RetCode: 0 Status: OK PackageFile: OnassisJavaLibs_1.29.0.tar.gz PackageFileSize: 85.26 MiB