Package: OnassisJavaLibs Version: 1.29.0 Command: /home/biocbuild/bbs-3.21-bioc/R/bin/R CMD check --install=check:OnassisJavaLibs.install-out.txt --library=/home/biocbuild/bbs-3.21-bioc/R/site-library --timings OnassisJavaLibs_1.29.0.tar.gz StartedAt: 2025-02-13 12:31:06 -0500 (Thu, 13 Feb 2025) EndedAt: 2025-02-13 12:31:27 -0500 (Thu, 13 Feb 2025) EllapsedTime: 20.9 seconds RetCode: 0 Status: OK CheckDir: OnassisJavaLibs.Rcheck Warnings: 0