Package: PCHiCdata Version: 1.35.0 Command: /home/biocbuild/bbs-3.21-bioc/R/bin/R CMD build --keep-empty-dirs --no-resave-data PCHiCdata StartedAt: 2025-02-04 11:33:48 -0500 (Tue, 04 Feb 2025) EndedAt: 2025-02-04 11:35:38 -0500 (Tue, 04 Feb 2025) EllapsedTime: 110.3 seconds RetCode: 0 Status: OK PackageFile: PCHiCdata_1.35.0.tar.gz PackageFileSize: 183.3 MiB