Package: PCHiCdata Version: 1.35.0 Command: /home/biocbuild/bbs-3.21-bioc/R/bin/R CMD check --install=check:PCHiCdata.install-out.txt --library=/home/biocbuild/bbs-3.21-bioc/R/site-library --timings PCHiCdata_1.35.0.tar.gz StartedAt: 2025-02-04 12:31:32 -0500 (Tue, 04 Feb 2025) EndedAt: 2025-02-04 12:32:33 -0500 (Tue, 04 Feb 2025) EllapsedTime: 61.1 seconds RetCode: 0 Status: WARNINGS CheckDir: PCHiCdata.Rcheck Warnings: 1