Package: PCHiCdata Version: 1.35.0 Command: /home/biocbuild/bbs-3.21-bioc/R/bin/R CMD INSTALL PCHiCdata StartedAt: 2025-02-04 10:57:48 -0500 (Tue, 04 Feb 2025) EndedAt: 2025-02-04 10:58:28 -0500 (Tue, 04 Feb 2025) EllapsedTime: 39.8 seconds RetCode: 0 Status: OK