Package: PWMEnrich.Dmelanogaster.background Version: 4.41.0 Command: /home/biocbuild/bbs-3.21-bioc/R/bin/R CMD build --keep-empty-dirs --no-resave-data PWMEnrich.Dmelanogaster.background StartedAt: 2025-02-06 11:34:51 -0500 (Thu, 06 Feb 2025) EndedAt: 2025-02-06 11:34:53 -0500 (Thu, 06 Feb 2025) EllapsedTime: 1.6 seconds RetCode: 0 Status: OK PackageFile: PWMEnrich.Dmelanogaster.background_4.41.0.tar.gz PackageFileSize: 6.539 MiB