Package: PepsNMRData Version: 1.25.0 Command: /home/biocbuild/bbs-3.21-bioc/R/bin/R CMD build --keep-empty-dirs --no-resave-data PepsNMRData StartedAt: 2025-02-06 11:33:47 -0500 (Thu, 06 Feb 2025) EndedAt: 2025-02-06 11:34:01 -0500 (Thu, 06 Feb 2025) EllapsedTime: 14.0 seconds RetCode: 0 Status: OK PackageFile: PepsNMRData_1.25.0.tar.gz PackageFileSize: 31.89 MiB