Package: PhyloProfileData Version: 1.21.0 Command: /home/biocbuild/bbs-3.21-bioc/R/bin/R CMD build --keep-empty-dirs --no-resave-data PhyloProfileData StartedAt: 2025-02-06 11:33:47 -0500 (Thu, 06 Feb 2025) EndedAt: 2025-02-06 11:34:22 -0500 (Thu, 06 Feb 2025) EllapsedTime: 34.4 seconds RetCode: 0 Status: OK PackageFile: PhyloProfileData_1.21.0.tar.gz PackageFileSize: 225.8 KiB