Package: ProData Version: 1.45.0 Command: /home/biocbuild/bbs-3.21-bioc/R/bin/R CMD build --keep-empty-dirs --no-resave-data ProData StartedAt: 2025-02-11 11:34:13 -0500 (Tue, 11 Feb 2025) EndedAt: 2025-02-11 11:34:15 -0500 (Tue, 11 Feb 2025) EllapsedTime: 2.0 seconds RetCode: 0 Status: OK PackageFile: ProData_1.45.0.tar.gz PackageFileSize: 19.05 MiB