Package: ProData Version: 1.45.0 Command: /home/biocbuild/bbs-3.21-bioc/R/bin/R CMD INSTALL ProData StartedAt: 2025-02-11 10:56:12 -0500 (Tue, 11 Feb 2025) EndedAt: 2025-02-11 10:56:15 -0500 (Tue, 11 Feb 2025) EllapsedTime: 3.5 seconds RetCode: 0 Status: OK