Package: ProteinGymR Version: 1.1.3 Maintainer: Tram Nguyen MaintainerEmail: Tram_Nguyen at hms.harvard.edu git_url: https://git.bioconductor.org/packages/ProteinGymR git_branch: devel git_last_commit: d018b4f git_last_commit_date: 2025-01-22 15:30:40 -0500 (Wed, 22 Jan 2025)