Package: ProteinGymR Version: 1.1.3 Command: /home/biocbuild/bbs-3.21-bioc/R/bin/R CMD INSTALL ProteinGymR StartedAt: 2025-02-06 10:56:53 -0500 (Thu, 06 Feb 2025) EndedAt: 2025-02-06 10:57:09 -0500 (Thu, 06 Feb 2025) EllapsedTime: 15.8 seconds RetCode: 0 Status: OK