Package: QDNAseq.hg19 Version: 1.37.0 Command: /home/biocbuild/bbs-3.21-bioc/R/bin/R CMD build --keep-empty-dirs --no-resave-data QDNAseq.hg19 StartedAt: 2025-02-04 11:34:54 -0500 (Tue, 04 Feb 2025) EndedAt: 2025-02-04 11:34:57 -0500 (Tue, 04 Feb 2025) EllapsedTime: 3.3 seconds RetCode: 0 Status: OK PackageFile: QDNAseq.hg19_1.37.0.tar.gz PackageFileSize: 35.26 MiB