Package: QDNAseq.hg19 Version: 1.37.0 Command: /home/biocbuild/bbs-3.21-bioc/R/bin/R CMD check --install=check:QDNAseq.hg19.install-out.txt --library=/home/biocbuild/bbs-3.21-bioc/R/site-library --timings QDNAseq.hg19_1.37.0.tar.gz StartedAt: 2025-02-04 12:33:07 -0500 (Tue, 04 Feb 2025) EndedAt: 2025-02-04 12:35:31 -0500 (Tue, 04 Feb 2025) EllapsedTime: 144.3 seconds RetCode: 0 Status: OK CheckDir: QDNAseq.hg19.Rcheck Warnings: 0