Package: QDNAseq.hg19 Version: 1.37.0 Command: /home/biocbuild/bbs-3.21-bioc/R/bin/R CMD INSTALL QDNAseq.hg19 StartedAt: 2025-02-06 11:02:18 -0500 (Thu, 06 Feb 2025) EndedAt: 2025-02-06 11:02:31 -0500 (Thu, 06 Feb 2025) EllapsedTime: 13.3 seconds RetCode: 0 Status: OK