Package: RGMQLlib Version: 1.27.0 Command: /home/biocbuild/bbs-3.21-bioc/R/bin/R CMD build --keep-empty-dirs --no-resave-data RGMQLlib StartedAt: 2025-02-04 11:35:50 -0500 (Tue, 04 Feb 2025) EndedAt: 2025-02-04 11:36:02 -0500 (Tue, 04 Feb 2025) EllapsedTime: 12.0 seconds RetCode: 0 Status: OK PackageFile: RGMQLlib_1.27.0.tar.gz PackageFileSize: 86.08 MiB