Package: RGMQLlib Version: 1.27.0 Command: /home/biocbuild/bbs-3.21-bioc/R/bin/R CMD INSTALL RGMQLlib StartedAt: 2025-02-04 10:55:23 -0500 (Tue, 04 Feb 2025) EndedAt: 2025-02-04 10:55:25 -0500 (Tue, 04 Feb 2025) EllapsedTime: 2.4 seconds RetCode: 0 Status: OK