Package: RITANdata Version: 1.31.0 Command: /home/biocbuild/bbs-3.21-bioc/R/bin/R CMD check --install=check:RITANdata.install-out.txt --library=/home/biocbuild/bbs-3.21-bioc/R/site-library --timings RITANdata_1.31.0.tar.gz StartedAt: 2025-02-13 12:36:10 -0500 (Thu, 13 Feb 2025) EndedAt: 2025-02-13 12:36:29 -0500 (Thu, 13 Feb 2025) EllapsedTime: 19.9 seconds RetCode: 0 Status: OK CheckDir: RITANdata.Rcheck Warnings: 0