Package: RNAmodR.Data Version: 1.21.0 Command: /home/biocbuild/bbs-3.21-bioc/R/bin/R CMD INSTALL RNAmodR.Data StartedAt: 2025-02-04 11:03:13 -0500 (Tue, 04 Feb 2025) EndedAt: 2025-02-04 11:03:52 -0500 (Tue, 04 Feb 2025) EllapsedTime: 38.6 seconds RetCode: 0 Status: OK