Package: RTCGA.CNV Version: 1.35.0 Maintainer: Marcin Kosinski MaintainerEmail: m.p.kosinski at gmail.com git_url: https://git.bioconductor.org/packages/RTCGA.CNV git_branch: devel git_last_commit: 9682326 git_last_commit_date: 2024-10-29 09:44:28 -0500 (Tue, 29 Oct 2024)