Package: RTCGA.CNV Version: 1.35.0 Command: /home/biocbuild/bbs-3.21-bioc/R/bin/R CMD build --keep-empty-dirs --no-resave-data RTCGA.CNV StartedAt: 2025-02-04 11:37:09 -0500 (Tue, 04 Feb 2025) EndedAt: 2025-02-04 11:37:29 -0500 (Tue, 04 Feb 2025) EllapsedTime: 19.9 seconds RetCode: 0 Status: OK PackageFile: RTCGA.CNV_1.35.0.tar.gz PackageFileSize: 27.37 MiB