Package: RTCGA.CNV Version: 1.35.0 Command: /home/biocbuild/bbs-3.21-bioc/R/bin/R CMD check --install=check:RTCGA.CNV.install-out.txt --library=/home/biocbuild/bbs-3.21-bioc/R/site-library --timings RTCGA.CNV_1.35.0.tar.gz StartedAt: 2025-02-06 12:37:27 -0500 (Thu, 06 Feb 2025) EndedAt: 2025-02-06 12:38:35 -0500 (Thu, 06 Feb 2025) EllapsedTime: 68.6 seconds RetCode: 0 Status: WARNINGS CheckDir: RTCGA.CNV.Rcheck Warnings: 1