Package: RTCGA.CNV Version: 1.35.0 Command: /home/biocbuild/bbs-3.21-bioc/R/bin/R CMD INSTALL RTCGA.CNV StartedAt: 2025-02-06 11:03:59 -0500 (Thu, 06 Feb 2025) EndedAt: 2025-02-06 11:04:16 -0500 (Thu, 06 Feb 2025) EllapsedTime: 16.7 seconds RetCode: 0 Status: OK