Package: RTCGA.mRNA Version: 1.35.0 Command: /home/biocbuild/bbs-3.21-bioc/R/bin/R CMD check --install=check:RTCGA.mRNA.install-out.txt --library=/home/biocbuild/bbs-3.21-bioc/R/site-library --timings RTCGA.mRNA_1.35.0.tar.gz StartedAt: 2025-02-13 12:39:41 -0500 (Thu, 13 Feb 2025) EndedAt: 2025-02-13 12:41:01 -0500 (Thu, 13 Feb 2025) EllapsedTime: 80.6 seconds RetCode: 0 Status: WARNINGS CheckDir: RTCGA.mRNA.Rcheck Warnings: 1