Package: RTCGA.mRNA Version: 1.35.0 Command: /home/biocbuild/bbs-3.21-bioc/R/bin/R CMD INSTALL RTCGA.mRNA StartedAt: 2025-02-06 11:04:01 -0500 (Thu, 06 Feb 2025) EndedAt: 2025-02-06 11:04:33 -0500 (Thu, 06 Feb 2025) EllapsedTime: 32.0 seconds RetCode: 0 Status: OK