Package: RTCGA.methylation Version: 1.35.0 Command: /home/biocbuild/bbs-3.21-bioc/R/bin/R CMD build --keep-empty-dirs --no-resave-data RTCGA.methylation StartedAt: 2025-02-06 11:37:04 -0500 (Thu, 06 Feb 2025) EndedAt: 2025-02-06 11:40:14 -0500 (Thu, 06 Feb 2025) EllapsedTime: 189.4 seconds RetCode: 0 Status: OK PackageFile: RTCGA.methylation_1.35.0.tar.gz PackageFileSize: 622.8 MiB