Package: RTCGA.methylation Version: 1.35.0 Command: /home/biocbuild/bbs-3.21-bioc/R/bin/R CMD check --install=check:RTCGA.methylation.install-out.txt --library=/home/biocbuild/bbs-3.21-bioc/R/site-library --timings RTCGA.methylation_1.35.0.tar.gz StartedAt: 2025-02-06 12:37:44 -0500 (Thu, 06 Feb 2025) EndedAt: 2025-02-06 12:40:36 -0500 (Thu, 06 Feb 2025) EllapsedTime: 172.1 seconds RetCode: 0 Status: WARNINGS CheckDir: RTCGA.methylation.Rcheck Warnings: 1