Package: RTCGA.methylation Version: 1.35.0 Command: /home/biocbuild/bbs-3.21-bioc/R/bin/R CMD INSTALL RTCGA.methylation StartedAt: 2025-02-06 11:03:58 -0500 (Thu, 06 Feb 2025) EndedAt: 2025-02-06 11:06:28 -0500 (Thu, 06 Feb 2025) EllapsedTime: 149.2 seconds RetCode: 0 Status: OK