Package: RTCGA.mutations Version: 20151101.37.0 Command: /home/biocbuild/bbs-3.21-bioc/R/bin/R CMD check --install=check:RTCGA.mutations.install-out.txt --library=/home/biocbuild/bbs-3.21-bioc/R/site-library --timings RTCGA.mutations_20151101.37.0.tar.gz StartedAt: 2025-02-06 12:38:25 -0500 (Thu, 06 Feb 2025) EndedAt: 2025-02-06 12:42:17 -0500 (Thu, 06 Feb 2025) EllapsedTime: 232.0 seconds RetCode: 0 Status: WARNINGS CheckDir: RTCGA.mutations.Rcheck Warnings: 1