Package: RUVnormalizeData Version: 1.27.0 Command: /home/biocbuild/bbs-3.21-bioc/R/bin/R CMD build --keep-empty-dirs --no-resave-data RUVnormalizeData StartedAt: 2025-02-06 11:37:42 -0500 (Thu, 06 Feb 2025) EndedAt: 2025-02-06 11:37:48 -0500 (Thu, 06 Feb 2025) EllapsedTime: 6.5 seconds RetCode: 0 Status: OK PackageFile: RUVnormalizeData_1.27.0.tar.gz PackageFileSize: 7.726 MiB