Package: RegParallel Version: 1.25.0 Command: /home/biocbuild/bbs-3.21-bioc/R/bin/R CMD build --keep-empty-dirs --no-resave-data RegParallel StartedAt: 2025-02-06 11:35:34 -0500 (Thu, 06 Feb 2025) EndedAt: 2025-02-06 11:42:10 -0500 (Thu, 06 Feb 2025) EllapsedTime: 395.7 seconds RetCode: 0 Status: OK PackageFile: RegParallel_1.25.0.tar.gz PackageFileSize: 634.6 KiB