Package: RegParallel Version: 1.25.0 Command: /home/biocbuild/bbs-3.21-bioc/R/bin/R CMD check --install=check:RegParallel.install-out.txt --library=/home/biocbuild/bbs-3.21-bioc/R/site-library --timings RegParallel_1.25.0.tar.gz StartedAt: 2025-02-06 12:33:54 -0500 (Thu, 06 Feb 2025) EndedAt: 2025-02-06 12:42:21 -0500 (Thu, 06 Feb 2025) EllapsedTime: 507.0 seconds RetCode: 0 Status: OK CheckDir: RegParallel.Rcheck Warnings: 0