Package: RforProteomics Version: 1.45.0 Command: /home/biocbuild/bbs-3.21-bioc/R/bin/R CMD build --keep-empty-dirs --no-resave-data RforProteomics StartedAt: 2025-02-06 11:35:41 -0500 (Thu, 06 Feb 2025) EndedAt: 2025-02-06 11:37:05 -0500 (Thu, 06 Feb 2025) EllapsedTime: 84.6 seconds RetCode: 1 Status: ERROR PackageFile: None PackageFileSize: NA