Package: RforProteomics Version: 1.45.0 Command: /home/biocbuild/bbs-3.21-bioc/R/bin/R CMD check --install=check:RforProteomics.install-out.txt --library=/home/biocbuild/bbs-3.21-bioc/R/site-library --timings RforProteomics_1.45.0.tar.gz StartedAt: 2025-01-30 12:34:41 -0500 (Thu, 30 Jan 2025) EndedAt: 2025-01-30 12:44:41 -0500 (Thu, 30 Jan 2025) EllapsedTime: 599.9 seconds RetCode: 0 Status: WARNINGS CheckDir: RforProteomics.Rcheck Warnings: 1