Package: RforProteomics Version: 1.45.0 Command: /home/biocbuild/bbs-3.21-bioc/R/bin/R CMD INSTALL RforProteomics StartedAt: 2025-02-06 11:00:10 -0500 (Thu, 06 Feb 2025) EndedAt: 2025-02-06 11:00:43 -0500 (Thu, 06 Feb 2025) EllapsedTime: 33.1 seconds RetCode: 0 Status: OK